BEGIN:VCALENDAR
VERSION:2.0
CALSCALE:GREGORIAN
PRODID:adamgibbons/ics
METHOD:PUBLISH
X-PUBLISHED-TTL:PT1H
BEGIN:VEVENT
UID:5113@lapunta.org
SUMMARY:RESISTERE PER RI-ESISTERE - 4a anniversario della lotta ex-GKN
DTSTAMP:20260420T091340Z
DTSTART:20250711T160000Z
DTEND:20250712T215900Z
DESCRIPTION:📍 11 e 12 luglio: Resistere per ri-esistere\n\n💣Venerdì 11 lugl
	io\, a partire dalle h 18.00\, Piazza Poggi\, Firenze\n\nconcerto con:\n\n
	donna G\, @espanacircoeste @pieropelufficiale @maurasmusic @dj mars\n@roma
	nticismoperiferico \, @bandabardoofficial (formazione ridotta)\,\n@arpioni
	skaband \, @spleensound \, @ejentband\n\n📌 Sabato 12 luglio – mattina\n\n3
	^ Assemblea Generale dell’Azionariato Popolare\, Piazza Poggi\, h 10.00 pu
	ntuali\n(il caldo non permette ritardi...)\n\nE le azioni di lotta? Di bot
	to e all'improvviso?\n\n🛏️ Vuoi dare vita alla tendata?\n\nCompila il form 
	di partecipazione per aiutare la nostra macchina organizzativa\nsotto asse
	dio:\n\n👉 LINK IN BIO!\n\nhttps://forms.gle/GvSFhA6bLhU4kqCK8 [https://for
	ms.gle/GvSFhA6bLhU4kqCK8]\n\n📢 Aiutaci a diffondere!\n\nTutte le info anch
	e su insorgiamo.org [http://insorgiamo.org]\n\n⚒️️ Ex Gkn\, la resistenza o
	peraia più lunga della storia apre la via al futuro\nnecessario⚡ Non ti pe
	rdere proprio ora quando potresti vincere: non mancare\n\n⚒️️ Riaprire la e
	x Gkn\, ridare posti di lavoro al territorio\, portare a casa un\nesempio 
	contagioso per cambiare i rapporti di forza a favore di tutte/i\n\n💥 Per g
	li stipendi: a noi ce li hanno tolti per 15 mesi e provano a non\nridarcel
	i. A tutte e tutti voi\, li hanno ridotti a miseria\n\n4 anni fa la Gkn ve
	niva chiusa con una mail improvvisa. La lotta è stata\nlogorata\, lasciata
	 senza stipendio\, raggirata. La fabbrica è passata di mano in\nmano. E' s
	tata prima chiusa da un fondo finanziario e oggi rischia di essere\nsvuota
	ta da una potenziale speculazione immobiliare.\n\nE ora minacciano di sgom
	berare il presidio operaio che ha tenuto e tiene in vita\nl'ipotesi di rip
	artenza della fabbrica.\n\nIl Collettivo di Fabbrica è ancora in piedi. No
	n solo: ha un piano. L'unico\npiano di reindustrializzazione dal basso\; u
	na fabbrica socialmente integrata\,\nbasata su mutualismo\, cooperazione\,
	 intervento pubblico\, reindustrializzazione\necologica.\n\nUn esempio che
	 dà fastidio a chi ci vuole convincere che dalla crisi si esce con\nla gue
	rra e la riconversione bellica dell’industria.\n\nLa nostra vittoria sareb
	be un enorme "si può fare"\, un esempio contagioso in un\nmondo che brucia
	 tra crisi climatica\, militarismo e genocidio.\n\nE' ancora tempo di prov
	are a volare:\n\n#insorgiamo
URL:https://lapunta.org/event/resistere-per-ri-esistere-4a-anniversario-del
	la-lotta-ex-gkn
LOCATION:piazza poggi - Piazza Poggi\, Firenze
STATUS:CONFIRMED
CATEGORIES:Firenze,GKN,concerto,insorgiamo,musica
X-ALT-DESC;FMTTYPE=text/html:<p>📍 11 e 12 luglio: Resistere per ri-esistere
	</p><p>💣Venerdì 11 luglio, a partire dalle h 18.00, Piazza Poggi, Firenze<
	/p><p>concerto con:</p><p>donna G, @espanacircoeste @pieropelufficiale @ma
	uras<em>music @dj mars @romanticismo</em>periferico , @bandabardo<em>offic
	ial (formazione ridotta), @arpioni</em>ska<em>band , @spleensound , @ejent
	</em>band</p><p>📌 Sabato 12 luglio – mattina</p><p>3^ Assemblea Generale d
	ell’Azionariato Popolare, Piazza Poggi, h 10.00 puntuali (il caldo non per
	mette ritardi...)</p><p>E le azioni di lotta? Di botto e all'improvviso?</
	p><p>🛏️ Vuoi dare vita alla tendata?</p><p>Compila il form di partecipazion
	e per aiutare la nostra macchina organizzativa sotto assedio:</p><p>👉 LINK
	 IN BIO!</p><p><a target="_blank" href="https://forms.gle/GvSFhA6bLhU4kqCK
	8">https://forms.gle/GvSFhA6bLhU4kqCK8</a></p><p>📢 Aiutaci a diffondere!</
	p><p>Tutte le info anche su <a target="_blank" href="http://insorgiamo.org
	">insorgiamo.org</a></p><p>⚒️️ Ex Gkn, la resistenza operaia più lunga dell
	a storia apre la via al futuro necessario⚡ Non ti perdere proprio ora quan
	do potresti vincere: non mancare</p><p>⚒️️ Riaprire la ex Gkn, ridare posti
	 di lavoro al territorio, portare a casa un esempio contagioso per cambiar
	e i rapporti di forza a favore di tutte/i</p><p>💥 Per gli stipendi: a noi 
	ce li hanno tolti per 15 mesi e provano a non ridarceli. A tutte e tutti v
	oi, li hanno ridotti a miseria</p><p>4 anni fa la Gkn veniva chiusa con un
	a mail improvvisa. La lotta è stata logorata, lasciata senza stipendio, ra
	ggirata. La fabbrica è passata di mano in mano. E' stata prima chiusa da u
	n fondo finanziario e oggi rischia di essere svuotata da una potenziale sp
	eculazione immobiliare.</p><p>E ora minacciano di sgomberare il presidio o
	peraio che ha tenuto e tiene in vita l'ipotesi di ripartenza della fabbric
	a.</p><p>Il Collettivo di Fabbrica è ancora in piedi. Non solo: ha un pian
	o. L'unico piano di reindustrializzazione dal basso; una fabbrica socialme
	nte integrata, basata su mutualismo, cooperazione, intervento pubblico, re
	industrializzazione ecologica.</p><p>Un esempio che dà fastidio a chi ci v
	uole convincere che dalla crisi si esce con la guerra e la riconversione b
	ellica dell’industria.</p><p>La nostra vittoria sarebbe un enorme "si può 
	fare", un esempio contagioso in un mondo che brucia tra crisi climatica, m
	ilitarismo e genocidio.</p><p>E' ancora tempo di provare a volare:</p><p>#
	insorgiamo</p>
END:VEVENT
BEGIN:VEVENT
UID:4326@lapunta.org
SUMMARY:Sarà festa o rabbia
DTSTAMP:20260420T091340Z
DTSTART:20241117T093000Z
DTEND:20241117T150000Z
DESCRIPTION:𝐔𝐧 𝐚𝐥𝐭𝐫𝐨 𝐛𝐚𝐭𝐭𝐢𝐭𝐨 𝐚𝐧𝐜𝐨𝐫𝐚:\n\n𝐝𝐨𝐦𝐞𝐧𝐢𝐜𝐚 𝟏𝟕 𝐧𝐨𝐯𝐞𝐦𝐛𝐫𝐞\, 𝐚 𝐩𝐚𝐫𝐭𝐢𝐫𝐞 𝐝𝐚
	𝐥𝐥𝐞 𝐡\n𝟏𝟎.𝟑𝟎\, 𝐏𝐢𝐚𝐳𝐳𝐚 𝐏𝐨𝐠𝐠𝐢\, 𝐅𝐢𝐫𝐞𝐧𝐳𝐞\n\n💥Assemblea dell'azionariato popol
	are\, rivisitazione di tre anni di lotta\,\nevento di festa e rabbia.\n\nC
	osa sarà?\n1. La seconda assemblea dell'azionariato popolare della ex Gkn\
	n2. Un momento dove rivivere questi tre anni di lotta\, l'assemblea perman
	ente\noperaia più lunga della storia\n3. Un evento di gioia e rabbia\n\n😳 
	La fine della lotta? Che non ci sperino nemmeno. Se ci sotterrano\, saremo
	\nsemi. Non c'è fine\, c'è solo trasformazione.\n\n🌎 La crisi climatica è 
	già qui. L'impoverimento di massa è già qui. La guerra è\ngià qui. Loro no
	n si possono permettere la nostra vittoria. Noi non ci possiamo\npermetter
	e la nostra sconfitta.\n\n⛈ In caso di maltempo\, sarà comunicato eventual
	e cambio di luogo sui canali\nsocial\, su info Gkn\, su insorgiamo.org [ht
	tp://insorgiamo.org]\n\nIn bio e su insorgiamo.org [http://insorgiamo.org]
	\, trovi anche tutte le info (i\nmateriali grafici\, il form dove prenotar
	ti\, il gruppo telegram per cercare\npassaggi...).\n\n👊 h 10.30-15.30 Asse
	mblea dell'azionariato popolare e della rete solidale e\ninterventi artist
	ici su tre anni di lotta.\n\n🔥 Con (lista in aggiornamento): Kepler-452\, 
	Militanza Grafica\, Benedetta Sabene\n(non mi piaci)\, Francesca Coin\, Ch
	ristian Raimo Raimo\, Gea Scancarello\, Andrea\nRoventini\, Wu Ming\, Albe
	rto Prunetti\, Elio Germano\, Niccolò Falsetti\, Francesco\nTurbanti\, Sim
	ona Baldanzi\, Emiliano Pagani\, intervento di EMERGENCY\, oltre\nnaturalm
	ente ad associazioni\, organizzazioni sindacali e tutt_ le/gli azionisti\n
	popolari.\n\n💣 Dalle 15.30\, festa e rabbia (lista in aggiornamento...). C
	on Dutch Nazari\,\ncon Luca Sicket e Matteo Di Giuseppe\, Gianluca Spirito
	\, (Modena City Ramblers)\,\nRomanticismo Periferico\, Errico Canta Male\,
	 ZULU 99 Posse Official\, Mauràs\, Gli\nUltimi\, Bestie rare
URL:https://lapunta.org/event/sara-festa-o-rabbia
LOCATION:piazza poggi - Piazza Poggi\, Firenze
STATUS:CONFIRMED
CATEGORIES:GKN,collettivo di fabbrica
X-ALT-DESC;FMTTYPE=text/html:<p>𝐔𝐧 𝐚𝐥𝐭𝐫𝐨 𝐛𝐚𝐭𝐭𝐢𝐭𝐨 𝐚𝐧𝐜𝐨𝐫𝐚: </p><p>𝐝𝐨𝐦𝐞𝐧𝐢𝐜𝐚 𝟏𝟕
	 𝐧𝐨𝐯𝐞𝐦𝐛𝐫𝐞, 𝐚 𝐩𝐚𝐫𝐭𝐢𝐫𝐞 𝐝𝐚𝐥𝐥𝐞 𝐡 𝟏𝟎.𝟑𝟎, 𝐏𝐢𝐚𝐳𝐳𝐚 𝐏𝐨𝐠𝐠𝐢, 𝐅𝐢𝐫𝐞𝐧𝐳𝐞 <br><br>💥Assembl
	ea dell'azionariato popolare, rivisitazione di tre anni di lotta, evento d
	i festa e rabbia.<br><br>Cosa sarà? <br>1. La seconda assemblea dell'azion
	ariato popolare della ex Gkn<br>2. Un momento dove rivivere questi tre ann
	i di lotta, l'assemblea permanente operaia più lunga della storia<br>3. Un
	 evento di gioia e rabbia<br><br>😳 La fine della lotta? Che non ci sperino
	 nemmeno. Se ci sotterrano, saremo semi. Non c'è fine, c'è solo trasformaz
	ione.<br><br>🌎 La crisi climatica è già qui. L'impoverimento di massa è gi
	à qui. La guerra è già qui. Loro non si possono permettere la nostra vitto
	ria. Noi non ci possiamo permettere la nostra sconfitta.<br><br>⛈ In caso 
	di maltempo, sarà comunicato eventuale cambio di luogo sui canali social, 
	su info Gkn, su <a target="_blank" href="http://insorgiamo.org">insorgiamo
	.org</a><br><br>In bio e su <a target="_blank" href="http://insorgiamo.org
	">insorgiamo.org</a>, trovi anche tutte le info (i materiali grafici, il f
	orm dove prenotarti, il gruppo telegram per cercare passaggi...).<br><br>👊
	 h 10.30-15.30 Assemblea dell'azionariato popolare e della rete solidale e
	 interventi artistici su tre anni di lotta. <br><br>🔥 Con (lista in aggior
	namento): Kepler-452, Militanza Grafica, Benedetta Sabene (non mi piaci), 
	Francesca Coin, Christian Raimo Raimo, Gea Scancarello, Andrea Roventini, 
	Wu Ming, Alberto Prunetti, Elio Germano, Niccolò Falsetti, Francesco Turba
	nti, Simona Baldanzi, Emiliano Pagani, intervento di EMERGENCY, oltre natu
	ralmente ad associazioni, organizzazioni sindacali e tutt_ le/gli azionist
	i popolari.<br><br>💣 Dalle 15.30, festa e rabbia (lista in aggiornamento..
	.). Con Dutch Nazari, con Luca Sicket e Matteo Di Giuseppe, Gianluca Spiri
	to, (Modena City Ramblers), Romanticismo Periferico, Errico Canta Male, ZU
	LU 99 Posse Official, Mauràs, Gli Ultimi, Bestie rare</p>
END:VEVENT
END:VCALENDAR
